BEGIN:VCALENDAR
VERSION:2.0
PRODID:-//Bühne &amp; Bohne Erfurt - ECPv6.15.20//NONSGML v1.0//EN
CALSCALE:GREGORIAN
METHOD:PUBLISH
X-WR-CALNAME:Bühne &amp; Bohne Erfurt
X-ORIGINAL-URL:https://www.buehne-und-bohne.de
X-WR-CALDESC:Veranstaltungen für Bühne &amp; Bohne Erfurt
REFRESH-INTERVAL;VALUE=DURATION:PT1H
X-Robots-Tag:noindex
X-PUBLISHED-TTL:PT1H
BEGIN:VTIMEZONE
TZID:Europe/Paris
BEGIN:DAYLIGHT
TZOFFSETFROM:+0100
TZOFFSETTO:+0200
TZNAME:CEST
DTSTART:20250330T010000
END:DAYLIGHT
BEGIN:STANDARD
TZOFFSETFROM:+0200
TZOFFSETTO:+0100
TZNAME:CET
DTSTART:20251026T010000
END:STANDARD
BEGIN:DAYLIGHT
TZOFFSETFROM:+0100
TZOFFSETTO:+0200
TZNAME:CEST
DTSTART:20260329T010000
END:DAYLIGHT
BEGIN:STANDARD
TZOFFSETFROM:+0200
TZOFFSETTO:+0100
TZNAME:CET
DTSTART:20261025T010000
END:STANDARD
BEGIN:DAYLIGHT
TZOFFSETFROM:+0100
TZOFFSETTO:+0200
TZNAME:CEST
DTSTART:20270328T010000
END:DAYLIGHT
BEGIN:STANDARD
TZOFFSETFROM:+0200
TZOFFSETTO:+0100
TZNAME:CET
DTSTART:20271031T010000
END:STANDARD
END:VTIMEZONE
BEGIN:VEVENT
DTSTART;TZID=Europe/Paris:20260419T103000
DTEND;TZID=Europe/Paris:20260419T113000
DTSTAMP:20260419T233142
CREATED:20260208T173153Z
LAST-MODIFIED:20260226T193810Z
UID:839-1776594600-1776598200@www.buehne-und-bohne.de
SUMMARY:Die kleine Meerjungfrau Katara
DESCRIPTION:Ein Minimusical über das Anders-Sein und die Suche nach der wahren Liebe\nDie kleine Meerjungfrau Katara möchte zu den Menschen. Sie möchte gehen\, tanzen\, und akzeptiert werden. Sie möchte mit ihnen singen\, und eine Welt außerhalb des Meeres entdecken. Doch Meerjungfrauen müssen sich von Menschen fernhalten. \nEines schicksalhaften Abends sieht sie\, wie Prinzessin Tia während eines Gewitters von ihrem Schiff fällt. Sie rettet das Menschenmädchen und verliebt sich Hals über Kopf. Doch sind die Beiden zu verschieden? \nKatara ist sich sicher\, sie will Tia wiedersehen! \nDa bleibt wohl nur ein Deal mit Meereshexe Uyuma… \n  \nText & Regie: Fiona Drechsler \nMusik: Carolin Hesse & Theresa de Haas \nBesetzung:  Theresa de Haas\, Elisabeth Heim & Fiona Drechsler \n  \nHinweise: \n\nAbendkasse +1€/Ticket\nVor Ort ist gegebenenfalls nur Barzahlung möglich
URL:https://www.buehne-und-bohne.de/event/die-kleine-meerjungfrau-katara-2/
LOCATION:Bühne & Bohne\, Juri-Gagarin-Ring 116\, Erfurt\, 99084\, Germany
CATEGORIES:Kindertheater
ORGANIZER;CN="B%C3%BChne & Bohne":MAILTO:kontakt@buehne-und-bohne.de
END:VEVENT
BEGIN:VEVENT
DTSTART;TZID=Europe/Paris:20260426T103000
DTEND;TZID=Europe/Paris:20260426T113000
DTSTAMP:20260419T233142
CREATED:20260207T202131Z
LAST-MODIFIED:20260226T181608Z
UID:804-1777199400-1777203000@www.buehne-und-bohne.de
SUMMARY:Die Schöne und das Biest
DESCRIPTION:Ein Kindermusical zum Verlieben \nEine alte Frau bittet um Obdach: Eine Nacht im Schloss des Prinzen gegen eine Rose. Doch der Prinz ist arrogant und selbstsüchtig. Zur Strafe verwandelt sie ihn in ein furchtbares Biest. Erst wenn er lernt zu lieben\, und geliebt zu werden\, bevor das letzte Blatt der Rose fällt\, wird der Fluch gebrochen. \nBelle will Abenteuer erleben\, doch sie lebt in einem kleinen Dorf. Sie wird seltsam genannt\, weil sie gern liest und singt. Eines Tages findet sie sich im Schloss des Biestes wieder. Ihr Abenteuer beginnt… \n  \nEin Mini-Musical für Kinder ab 4 Jahren. Spielzeit ca. 50min. \nText & Regie: Fiona Drechsler \nBesetzung: Fiona Drechsler & Laura Busch \n  \nHinweise: \n\nAbendkasse +1€/Ticket\nVor Ort ist gegebenenfalls nur Barzahlung möglich
URL:https://www.buehne-und-bohne.de/event/die-schoene-und-das-biest-6/
LOCATION:Bühne & Bohne\, Juri-Gagarin-Ring 116\, Erfurt\, 99084\, Germany
CATEGORIES:Die Schöne und das Biest,Kindertheater
ORGANIZER;CN="B%C3%BChne & Bohne":MAILTO:kontakt@buehne-und-bohne.de
END:VEVENT
END:VCALENDAR