BEGIN:VCALENDAR
VERSION:2.0
PRODID:-//Bühne &amp; Bohne Erfurt - ECPv6.15.20//NONSGML v1.0//EN
CALSCALE:GREGORIAN
METHOD:PUBLISH
X-WR-CALNAME:Bühne &amp; Bohne Erfurt
X-ORIGINAL-URL:https://www.buehne-und-bohne.de
X-WR-CALDESC:Veranstaltungen für Bühne &amp; Bohne Erfurt
REFRESH-INTERVAL;VALUE=DURATION:PT1H
X-Robots-Tag:noindex
X-PUBLISHED-TTL:PT1H
BEGIN:VTIMEZONE
TZID:Europe/Paris
BEGIN:DAYLIGHT
TZOFFSETFROM:+0100
TZOFFSETTO:+0200
TZNAME:CEST
DTSTART:20250330T010000
END:DAYLIGHT
BEGIN:STANDARD
TZOFFSETFROM:+0200
TZOFFSETTO:+0100
TZNAME:CET
DTSTART:20251026T010000
END:STANDARD
BEGIN:DAYLIGHT
TZOFFSETFROM:+0100
TZOFFSETTO:+0200
TZNAME:CEST
DTSTART:20260329T010000
END:DAYLIGHT
BEGIN:STANDARD
TZOFFSETFROM:+0200
TZOFFSETTO:+0100
TZNAME:CET
DTSTART:20261025T010000
END:STANDARD
BEGIN:DAYLIGHT
TZOFFSETFROM:+0100
TZOFFSETTO:+0200
TZNAME:CEST
DTSTART:20270328T010000
END:DAYLIGHT
BEGIN:STANDARD
TZOFFSETFROM:+0200
TZOFFSETTO:+0100
TZNAME:CET
DTSTART:20271031T010000
END:STANDARD
END:VTIMEZONE
BEGIN:VEVENT
DTSTART;TZID=Europe/Paris:20260502T160000
DTEND;TZID=Europe/Paris:20260502T170000
DTSTAMP:20260420T055309
CREATED:20260207T193646Z
LAST-MODIFIED:20260226T170739Z
UID:792-1777737600-1777741200@www.buehne-und-bohne.de
SUMMARY:Lotta und der Stänkervogel
DESCRIPTION:Mobbing? Nicht mit Lotta! \nLotta\, das Huhn\, ist sich sicher: Heute wird ein schöner Tag! Ausgestattet mit Bollerwagen\, Flaschenpost und Strandball ist sie drauf und dran\, mit ihren Freunden in ein aufregendes Piratenabenteuer zu starten\, wäre da nicht ein gemeiner Stänkervogel\, der mit seinen Späßen den Tieren auf dem Bauernhof gehörig den Tag vermiest. \nFrau Hase vermisst ihre Möhren\, Herrn Maulwurf hat er die Brille gestohlen und selbst die tapferen Küken trauen sich nicht mehr aus dem Nest! Schnell ist klar: Diesem Fiesling muss das Handwerk gelegt werden! \nEin Minimusical mit Message \nLied um Lied führt uns Lotta in diesem Mitmach-Musical über den Bauernhof und versucht dabei\, die Spur des Stänker-vogels nachzuvollziehen und das von ihm angerichtete Chaos wiedergutzumachen.\nIn abwechselnden Auftritten und abwechslungsreichen Szenen behandelt das Stück das Thema Mobbing und bietet den Zuschauenden zahlreiche Möglichkeiten\, mit den Figuren zu interagieren und diese mit-einander zu versöhnen.\nDenn schließlich muss auch der Stänkervogel einsehen: Stänkern ist nicht ok. \n  \nMusik\, Text & Regie: Tom Dewulf\, Arto Entertainment Kids \nBesetzung: Carolin Hesse & Fiona Drechsler \n  \nHinweise: \n\nAbendkasse +1€/Ticket\nVor Ort ist gegebenenfalls nur Barzahlung möglich
URL:https://www.buehne-und-bohne.de/event/lotta-und-der-staenkervogel-3/
LOCATION:Bühne & Bohne\, Juri-Gagarin-Ring 116\, Erfurt\, 99084\, Germany
CATEGORIES:Kindertheater
ORGANIZER;CN="B%C3%BChne & Bohne":MAILTO:kontakt@buehne-und-bohne.de
END:VEVENT
BEGIN:VEVENT
DTSTART;TZID=Europe/Paris:20260509T160000
DTEND;TZID=Europe/Paris:20260509T170000
DTSTAMP:20260420T055309
CREATED:20260208T173526Z
LAST-MODIFIED:20260226T135721Z
UID:843-1778342400-1778346000@www.buehne-und-bohne.de
SUMMARY:Die kleine Meerjungfrau Katara
DESCRIPTION:Ein Minimusical über das Anders-Sein und die Suche nach der wahren Liebe\nDie kleine Meerjungfrau Katara möchte zu den Menschen. Sie möchte gehen\, tanzen\, und akzeptiert werden. Sie möchte mit ihnen singen\, und eine Welt außerhalb des Meeres entdecken. Doch Meerjungfrauen müssen sich von Menschen fernhalten. \nEines schicksalhaften Abends sieht sie\, wie Prinzessin Tia während eines Gewitters von ihrem Schiff fällt. Sie rettet das Menschenmädchen und verliebt sich Hals über Kopf. Doch sind die Beiden zu verschieden? \nKatara ist sich sicher\, sie will Tia wiedersehen! \nDa bleibt wohl nur ein Deal mit Meereshexe Uyuma… \n  \nText & Regie: Fiona Drechsler \nMusik: Carolin Hesse & Theresa de Haas \nBesetzung:  Theresa de Haas\, Elisabeth Heim & Carolin Hesse \n  \nHinweise: \n\nAbendkasse +1€/Ticket\nVor Ort ist gegebenenfalls nur Barzahlung möglich
URL:https://www.buehne-und-bohne.de/event/die-kleine-meerjungfrau-katara-3/
LOCATION:Bühne & Bohne\, Juri-Gagarin-Ring 116\, Erfurt\, 99084\, Germany
CATEGORIES:Kindertheater
ORGANIZER;CN="B%C3%BChne & Bohne":MAILTO:kontakt@buehne-und-bohne.de
END:VEVENT
BEGIN:VEVENT
DTSTART;TZID=Europe/Paris:20260510T103000
DTEND;TZID=Europe/Paris:20260510T113000
DTSTAMP:20260420T055309
CREATED:20260208T173820Z
LAST-MODIFIED:20260227T075850Z
UID:847-1778409000-1778412600@www.buehne-und-bohne.de
SUMMARY:MUTTERTAGSSPECIAL: Die kleine Meerjungfrau Katara
DESCRIPTION:Zum Muttertag ein Mini-Musical für die ganze Familie\nAm 10.05. ist Muttertag – das möchten wir gebührend feiern! Mit einem unserer beliebtesten Kinderstücke (mit Disney-Vibes) und einer kleinen Aufmerksamkeit für alle Mamas. \nEin Minimusical über das Anders-Sein und die Suche nach der wahren Liebe\nDie kleine Meerjungfrau Katara möchte zu den Menschen. Sie möchte gehen\, tanzen\, und akzeptiert werden. Sie möchte mit ihnen singen\, und eine Welt außerhalb des Meeres entdecken. Doch Meerjungfrauen müssen sich von Menschen fernhalten. \nEines schicksalhaften Abends sieht sie\, wie Prinzessin Tia während eines Gewitters von ihrem Schiff fällt. Sie rettet das Menschenmädchen und verliebt sich Hals über Kopf. Doch sind die Beiden zu verschieden? \nKatara ist sich sicher\, sie will Tia wiedersehen! \nDa bleibt wohl nur ein Deal mit Meereshexe Uyuma… \n  \nText & Regie: Fiona Drechsler \nMusik: Carolin Hesse & Theresa de Haas \nBesetzung:  Theresa de Haas\, Elisabeth Heim & Carolin Hesse \n  \nHinweise: \n\nAbendkasse +1€/Ticket\nVor Ort ist gegebenenfalls nur Barzahlung möglich
URL:https://www.buehne-und-bohne.de/event/die-kleine-meerjungfrau-katara-4/
LOCATION:Bühne & Bohne\, Juri-Gagarin-Ring 116\, Erfurt\, 99084\, Germany
CATEGORIES:Kindertheater
ORGANIZER;CN="B%C3%BChne & Bohne":MAILTO:kontakt@buehne-und-bohne.de
END:VEVENT
END:VCALENDAR