BEGIN:VCALENDAR
VERSION:2.0
PRODID:-//Bühne &amp; Bohne Erfurt - ECPv6.15.20//NONSGML v1.0//EN
CALSCALE:GREGORIAN
METHOD:PUBLISH
X-WR-CALNAME:Bühne &amp; Bohne Erfurt
X-ORIGINAL-URL:https://www.buehne-und-bohne.de
X-WR-CALDESC:Veranstaltungen für Bühne &amp; Bohne Erfurt
REFRESH-INTERVAL;VALUE=DURATION:PT1H
X-Robots-Tag:noindex
X-PUBLISHED-TTL:PT1H
BEGIN:VTIMEZONE
TZID:Europe/Paris
BEGIN:DAYLIGHT
TZOFFSETFROM:+0100
TZOFFSETTO:+0200
TZNAME:CEST
DTSTART:20250330T010000
END:DAYLIGHT
BEGIN:STANDARD
TZOFFSETFROM:+0200
TZOFFSETTO:+0100
TZNAME:CET
DTSTART:20251026T010000
END:STANDARD
BEGIN:DAYLIGHT
TZOFFSETFROM:+0100
TZOFFSETTO:+0200
TZNAME:CEST
DTSTART:20260329T010000
END:DAYLIGHT
BEGIN:STANDARD
TZOFFSETFROM:+0200
TZOFFSETTO:+0100
TZNAME:CET
DTSTART:20261025T010000
END:STANDARD
BEGIN:DAYLIGHT
TZOFFSETFROM:+0100
TZOFFSETTO:+0200
TZNAME:CEST
DTSTART:20270328T010000
END:DAYLIGHT
BEGIN:STANDARD
TZOFFSETFROM:+0200
TZOFFSETTO:+0100
TZNAME:CET
DTSTART:20271031T010000
END:STANDARD
END:VTIMEZONE
BEGIN:VEVENT
DTSTART;TZID=Europe/Paris:20260213T190000
DTEND;TZID=Europe/Paris:20260213T220000
DTSTAMP:20260419T201232
CREATED:20260106T184808Z
LAST-MODIFIED:20260210T070156Z
UID:570-1771009200-1771020000@www.buehne-und-bohne.de
SUMMARY:AUSVERKAUFT Tödlich Sexy - Das Burlesque-Musical
DESCRIPTION:Das Event für die Girls-Night der besonderen Art! \nZum Galentine’s Day am 13.02. haben wir eins unserer besten Stücke für dich und deine Freundinnen ausgepackt: „Tödlich Sexy“\, ein unterhaltsames\, spannendes und charmantes Musical mit Gesang\, Tanz und Humor. \nDenn in Medusas Burlesqueclub herrscht ein Zickenkrieg\, der tödlich endet. Tänzerinnen Barbie und Cleo können einander nicht ausstehen\, Medusa will\, dass ihre Show ein Erfolg wird\, und Cinamon und Sugar wollen einfach nur dabei sein. Als ein Schuss ertönt herrscht das erste Mal Stille im Club. So darf und wird der Abend nicht enden\, das ist sicher!
URL:https://www.buehne-und-bohne.de/event/toedlich-sexy-das-burlesque-musical/
LOCATION:Bühne & Bohne\, Juri-Gagarin-Ring 116\, Erfurt\, 99084\, Germany
CATEGORIES:Abendstücke,Tödlich Sexy - Burlesquemusical
ORGANIZER;CN="B%C3%BChne & Bohne":MAILTO:kontakt@buehne-und-bohne.de
END:VEVENT
BEGIN:VEVENT
DTSTART;TZID=Europe/Paris:20260214T160000
DTEND;TZID=Europe/Paris:20260214T170000
DTSTAMP:20260419T201232
CREATED:20251119T140535Z
LAST-MODIFIED:20260214T085505Z
UID:543-1771084800-1771088400@www.buehne-und-bohne.de
SUMMARY:Die Schöne und das Biest
DESCRIPTION:Der 14.02. steht im Zeichen der Liebe! Mit unserem brandneuen Kinderstück „Die Schöne und das Biest“ möchten wir euch verzaubern und mitreißen. Zudem ist dieses Stück die Kindertheaterpremiere für unsere neue Location. Seid also dabei und packt eure Liebsten ein. Vorhang auf! \n  \nDarum geht’s: \nEin egoistischer Prinz wird von einer guten Zauberin in ein furchtbares Biest verwandelt. Er muss lernen zu lieben\, und geliebt zu werden\, bevor seine Rose verwelkt\, sonst wird er auf ewig ein Biest bleiben. \nBelle ist ein kluges Mädchen\, das Abenteuer wie in ihren Büchern erleben will. Als ihr Vater vom Biest gefangen genommen wird\, findet sie ihn und nimmt seinen Platz ein. Nun auf dem Schloss des Prinzen kommt sie dem befremdlichen Biest näher\, und erfährt von seinem furchtbaren Fluch…
URL:https://www.buehne-und-bohne.de/event/die-schoene-und-das-biest/
LOCATION:Bühne & Bohne\, Juri-Gagarin-Ring 116\, Erfurt\, 99084\, Germany
CATEGORIES:Die Schöne und das Biest,Kindertheater
ORGANIZER;CN="B%C3%BChne & Bohne":MAILTO:kontakt@buehne-und-bohne.de
END:VEVENT
END:VCALENDAR