BEGIN:VCALENDAR
VERSION:2.0
PRODID:-//Bühne &amp; Bohne Erfurt - ECPv6.15.20//NONSGML v1.0//EN
CALSCALE:GREGORIAN
METHOD:PUBLISH
X-ORIGINAL-URL:https://www.buehne-und-bohne.de
X-WR-CALDESC:Veranstaltungen für Bühne &amp; Bohne Erfurt
REFRESH-INTERVAL;VALUE=DURATION:PT1H
X-Robots-Tag:noindex
X-PUBLISHED-TTL:PT1H
BEGIN:VTIMEZONE
TZID:Europe/Paris
BEGIN:DAYLIGHT
TZOFFSETFROM:+0100
TZOFFSETTO:+0200
TZNAME:CEST
DTSTART:20250330T010000
END:DAYLIGHT
BEGIN:STANDARD
TZOFFSETFROM:+0200
TZOFFSETTO:+0100
TZNAME:CET
DTSTART:20251026T010000
END:STANDARD
BEGIN:DAYLIGHT
TZOFFSETFROM:+0100
TZOFFSETTO:+0200
TZNAME:CEST
DTSTART:20260329T010000
END:DAYLIGHT
BEGIN:STANDARD
TZOFFSETFROM:+0200
TZOFFSETTO:+0100
TZNAME:CET
DTSTART:20261025T010000
END:STANDARD
BEGIN:DAYLIGHT
TZOFFSETFROM:+0100
TZOFFSETTO:+0200
TZNAME:CEST
DTSTART:20270328T010000
END:DAYLIGHT
BEGIN:STANDARD
TZOFFSETFROM:+0200
TZOFFSETTO:+0100
TZNAME:CET
DTSTART:20271031T010000
END:STANDARD
END:VTIMEZONE
BEGIN:VEVENT
DTSTART;TZID=Europe/Paris:20260404T160000
DTEND;TZID=Europe/Paris:20260404T170000
DTSTAMP:20260419T165441
CREATED:20260207T190427Z
LAST-MODIFIED:20260226T201913Z
UID:763-1775318400-1775322000@www.buehne-und-bohne.de
SUMMARY:Rotkäppchen und die Freundschaft
DESCRIPTION:„Komm ja nicht vom Weg ab\, mein Rotkäppchen“\, sagt die Mutter zu dem Mädchen. Doch als Rotkäppchen sich schließlich mit Wein und Kuchen aufmacht\, hat sie diese Warnung längst vergessen. Was soll schon passieren\, wenn sie noch ein paar Blumen pflückt\, um sie ihrer Oma zu schenken? Wenn sie dem netten Wolf von ihrer Großmutter erzählt? Vielleicht kann sie sich ja mit ihm anfreunden! \nDer Wolf muss lernen\, böse zu sein. Eigentlich ist ihm nur eins wichtig: Kuchen. Aber weil er ein Wolf ist\, muss er böse sein\, das sagt zumindest sein Bruder. So lässt er sich überreden\, zum Haus der Großmutter zu gehen… \nOb der Wolf seinen Kuchen bekommt und die beiden am Ende Freunde werden? Finde es heraus in Rotkäppchen und die Freundschaft! \n  \nEin mit viel Liebe inszeniertes Märchen über Gut und Böse und die Macht der Freundschaft. Empfehlung ab 3 Jahren. Spieldauer ca. 50min. \nText & Regie: Fiona Drechsler \nBesetzung: Amelie Preller & Stefanie Pohlent \n  \nHinweise: \n\nAbendkasse +1€/Ticket\nVor Ort ist gegebenenfalls nur Barzahlung möglich
URL:https://www.buehne-und-bohne.de/event/rotkaeppchen-und-die-freundschaft-3/
LOCATION:Bühne & Bohne\, Juri-Gagarin-Ring 116\, Erfurt\, 99084\, Germany
CATEGORIES:Kindertheater
ORGANIZER;CN="B%C3%BChne & Bohne":MAILTO:kontakt@buehne-und-bohne.de
END:VEVENT
BEGIN:VEVENT
DTSTART;TZID=Europe/Paris:20260404T190000
DTEND;TZID=Europe/Paris:20260404T213000
DTSTAMP:20260419T165441
CREATED:20260207T191434Z
LAST-MODIFIED:20260404T114318Z
UID:771-1775329200-1775338200@www.buehne-und-bohne.de
SUMMARY:KARAOKE meets THEATER bei TÖDLICH SEXY - Das Burlesque-Musical
DESCRIPTION:Karaoke meets Musical!\nUnser beliebter Burlesque-Krimi als Singalong-Musical mit beliebten Hits der 90er und 2000er. Pack deine Girls ein und ölt die Singstimmen – hier wird mitgesungen\, mitgelacht und mitgefiebert… \n  \nHier werden die Krallen ausgefahren \nIn Medusas Burlesqueclub herrscht ein Zickenkrieg\, der tödlich endet. Tänzerinnen Barbie und Cleo können einander nicht ausstehen und Medusa will\, dass ihre Show ein Erfolg wird. Als ein Schuss ertönt herrscht das erste Mal Stille im Club. So darf und wird der Abend nicht enden\, das ist sicher! \nThe show must go on! \nDie Showgirls versuchen herauszufinden\, wer hinter dem Mord steckt\, ohne die Show zu unterbrechen. Die Stimmung wird angespannter\, die Choreos chaotischer\, die Stimmen lauter. Und bevor der Abend endet\, fliegen die Fetzen! \n  \nDie Songs: \n\nExpress – Christina Aguilera (aus dem Film „Burlesque“)\nBang Bang  – Jessie J\, Ariana Grande\, Nicki Minaj\nButtons – The Pussycat Dolls\nDangerous Woman – Ariana Grande\nPoker Face – Lady Gaga\nLady Marmelade – Christina Aguilera\, Lil‘ Kim\, Mýa\, P!nk\nOops!… I did it again – Britney Spears\n\n  \nTödlich Sexy ist ein unterhaltsames\, spannendes und charmantes Musical mit Gesang\, Tanz und Humor. Mit Hits von Britney Spears\, Lady Gaga\, den Pussycat Dolls u.v.m. Spielzeit ca. 100min mit Pause.  \nText & Regie: Fiona Drechsler \nChoreografie: Fiona Drechsler & Colien Tappert \nBesetzung: Natalie Büschleb\, Stefanie Pohlent & Amelie Preller \n  \nHinweise: \n\nErmäßigungsberechtigt sind Schüler\, Studenten und Auszubildende\, Senioren. Ein entsprechender Nachweis ist vorzulegen.\nAbendkasse +3€/Ticket\nVor Ort ist gegebenenfalls nur Barzahlung möglich
URL:https://www.buehne-und-bohne.de/event/toedlich-sexy-das-burlesque-musical-4/
LOCATION:Bühne & Bohne\, Juri-Gagarin-Ring 116\, Erfurt\, 99084\, Germany
CATEGORIES:Abendstücke,Tödlich Sexy - Burlesquemusical
ORGANIZER;CN="B%C3%BChne & Bohne":MAILTO:kontakt@buehne-und-bohne.de
END:VEVENT
END:VCALENDAR