BEGIN:VCALENDAR
VERSION:2.0
PRODID:-//Bühne &amp; Bohne Erfurt - ECPv6.15.20//NONSGML v1.0//EN
CALSCALE:GREGORIAN
METHOD:PUBLISH
X-ORIGINAL-URL:https://www.buehne-und-bohne.de
X-WR-CALDESC:Veranstaltungen für Bühne &amp; Bohne Erfurt
REFRESH-INTERVAL;VALUE=DURATION:PT1H
X-Robots-Tag:noindex
X-PUBLISHED-TTL:PT1H
BEGIN:VTIMEZONE
TZID:Europe/Paris
BEGIN:DAYLIGHT
TZOFFSETFROM:+0100
TZOFFSETTO:+0200
TZNAME:CEST
DTSTART:20250330T010000
END:DAYLIGHT
BEGIN:STANDARD
TZOFFSETFROM:+0200
TZOFFSETTO:+0100
TZNAME:CET
DTSTART:20251026T010000
END:STANDARD
BEGIN:DAYLIGHT
TZOFFSETFROM:+0100
TZOFFSETTO:+0200
TZNAME:CEST
DTSTART:20260329T010000
END:DAYLIGHT
BEGIN:STANDARD
TZOFFSETFROM:+0200
TZOFFSETTO:+0100
TZNAME:CET
DTSTART:20261025T010000
END:STANDARD
BEGIN:DAYLIGHT
TZOFFSETFROM:+0100
TZOFFSETTO:+0200
TZNAME:CEST
DTSTART:20270328T010000
END:DAYLIGHT
BEGIN:STANDARD
TZOFFSETFROM:+0200
TZOFFSETTO:+0100
TZNAME:CET
DTSTART:20271031T010000
END:STANDARD
END:VTIMEZONE
BEGIN:VEVENT
DTSTART;TZID=Europe/Paris:20260328T160000
DTEND;TZID=Europe/Paris:20260328T170000
DTSTAMP:20260419T215705
CREATED:20260202T083214Z
LAST-MODIFIED:20260226T203115Z
UID:666-1774713600-1774717200@www.buehne-und-bohne.de
SUMMARY:Die kleine Meerjungfrau Katara
DESCRIPTION:Ein Minimusical über das Anders-Sein und die Suche nach der wahren Liebe\nDie kleine Meerjungfrau Katara möchte zu den Menschen. Sie möchte gehen\, tanzen\, und akzeptiert werden. Sie möchte mit ihnen singen\, und eine Welt außerhalb des Meeres entdecken. Doch Meerjungfrauen müssen sich von Menschen fernhalten. \nEines schicksalhaften Abends sieht sie\, wie Prinzessin Tia während eines Gewitters von ihrem Schiff fällt. Sie rettet das Menschenmädchen und verliebt sich Hals über Kopf. Doch sind die Beiden zu verschieden? \nKatara ist sich sicher\, sie will Tia wiedersehen! \nDa bleibt wohl nur ein Deal mit Meereshexe Uyuma…
URL:https://www.buehne-und-bohne.de/event/die-kleine-meerjungfrau-katara/
LOCATION:Bühne & Bohne\, Juri-Gagarin-Ring 116\, Erfurt\, 99084\, Germany
CATEGORIES:Kindertheater
ORGANIZER;CN="B%C3%BChne & Bohne":MAILTO:kontakt@buehne-und-bohne.de
END:VEVENT
END:VCALENDAR