BEGIN:VCALENDAR
VERSION:2.0
PRODID:-//Bühne &amp; Bohne Erfurt - ECPv6.15.20//NONSGML v1.0//EN
CALSCALE:GREGORIAN
METHOD:PUBLISH
X-WR-CALNAME:Bühne &amp; Bohne Erfurt
X-ORIGINAL-URL:https://www.buehne-und-bohne.de
X-WR-CALDESC:Veranstaltungen für Bühne &amp; Bohne Erfurt
REFRESH-INTERVAL;VALUE=DURATION:PT1H
X-Robots-Tag:noindex
X-PUBLISHED-TTL:PT1H
BEGIN:VTIMEZONE
TZID:Europe/Paris
BEGIN:DAYLIGHT
TZOFFSETFROM:+0100
TZOFFSETTO:+0200
TZNAME:CEST
DTSTART:20250330T010000
END:DAYLIGHT
BEGIN:STANDARD
TZOFFSETFROM:+0200
TZOFFSETTO:+0100
TZNAME:CET
DTSTART:20251026T010000
END:STANDARD
BEGIN:DAYLIGHT
TZOFFSETFROM:+0100
TZOFFSETTO:+0200
TZNAME:CEST
DTSTART:20260329T010000
END:DAYLIGHT
BEGIN:STANDARD
TZOFFSETFROM:+0200
TZOFFSETTO:+0100
TZNAME:CET
DTSTART:20261025T010000
END:STANDARD
BEGIN:DAYLIGHT
TZOFFSETFROM:+0100
TZOFFSETTO:+0200
TZNAME:CEST
DTSTART:20270328T010000
END:DAYLIGHT
BEGIN:STANDARD
TZOFFSETFROM:+0200
TZOFFSETTO:+0100
TZNAME:CET
DTSTART:20271031T010000
END:STANDARD
END:VTIMEZONE
BEGIN:VEVENT
DTSTART;TZID=Europe/Paris:20260321T160000
DTEND;TZID=Europe/Paris:20260321T170000
DTSTAMP:20260419T201255
CREATED:20260202T082709Z
LAST-MODIFIED:20260226T204237Z
UID:672-1774108800-1774112400@www.buehne-und-bohne.de
SUMMARY:Lotta und der Stänkervogel
DESCRIPTION:Mobbing? Nicht mit Lotta!\nLotta\, das Huhn\, ist sich sicher: Heute wird ein schöner Tag! Ausgestattet mit Bollerwagen\, Flaschenpost und Strandball ist sie drauf und dran\, mit ihren Freunden in ein aufregendes Piratenabenteuer zu starten\, wäre da nicht ein gemeiner Stänkervogel\, der mit seinen Späßen den Tieren auf dem Bauernhof gehörig den Tag vermiest. \nFrau Hase vermisst ihre Möhren\, Herrn Maulwurf hat er die Brille gestohlen und selbst die tapferen Küken trauen sich nicht mehr aus dem Nest! Schnell ist klar: Diesem Fiesling muss das Handwerk gelegt werden! \nEin Minimusical mit Message\nLied um Lied führt uns Lotta in diesem Mitmach-Musical über den Bauernhof und versucht dabei\, die Spur des Stänker-vogels nachzuvollziehen und das von ihm angerichtete Chaos wiedergutzumachen.\nIn abwechselnden Auftritten und abwechslungsreichen Szenen behandelt das Stück das Thema Mobbing und bietet den Zuschauenden zahlreiche Möglichkeiten\, mit den Figuren zu interagieren und diese mit-einander zu versöhnen.\nDenn schließlich muss auch der Stänkervogel einsehen: Stänkern ist nicht ok. \n  \nMusik\, Text & Regie: Tom Dewulf\, Arto Entertainment Kids \nBesetzung: Carolin Hesse & Fiona Drechsler
URL:https://www.buehne-und-bohne.de/event/lotta-und-der-staenkervogel/
LOCATION:Bühne & Bohne\, Juri-Gagarin-Ring 116\, Erfurt\, 99084\, Germany
CATEGORIES:Kindertheater
ORGANIZER;CN="B%C3%BChne & Bohne":MAILTO:kontakt@buehne-und-bohne.de
END:VEVENT
BEGIN:VEVENT
DTSTART;TZID=Europe/Paris:20260321T190000
DTEND;TZID=Europe/Paris:20260321T213000
DTSTAMP:20260419T201255
CREATED:20260202T082837Z
LAST-MODIFIED:20260226T203754Z
UID:691-1774119600-1774128600@www.buehne-und-bohne.de
SUMMARY:Tödlich Sexy - Das Burlesque-Musical
DESCRIPTION:Hier werden die Krallen ausgefahren\nIn Medusas Burlesqueclub herrscht ein Zickenkrieg\, der tödlich endet. Tänzerinnen Barbie und Cleo können einander nicht ausstehen und Medusa will\, dass ihre Show ein Erfolg wird. Als ein Schuss ertönt herrscht das erste Mal Stille im Club. So darf und wird der Abend nicht enden\, das ist sicher! \nThe show must go on!\nDie Showgirls versuchen herauszufinden\, wer hinter dem Mord steckt\, ohne die Show zu unterbrechen. Die Stimmung wird angespannter\, die Choreos chaotischer\, die Stimmen lauter. Und bevor der Abend endet\, fliegen die Fetzen! \n  \nTödlich Sexy ist ein unterhaltsames\, spannendes und charmantes Musical mit Gesang\, Tanz und Humor. Mit Hits von Britney Spears\, Lady Gaga\, den Pussycat Dolls u.v.m. Spielzeit ca. 100min mit Pause.  \nText & Regie: Fiona Drechsler \nChoreografie: Fiona Drechsler & Colien Tappert \nBesetzung: Marie Krümmling\, Natalie Büschleb & Amelie Preller \n  \n  \n*Ermäßigungsberechtigt sind Schüler\, Studenten und Auszubildende\, Senioren. Ein entsprechender Nachweis ist vorzulegen. \n**Abendkasse +3€/Ticket \n*** Vor Ort nur Barzahlung möglich
URL:https://www.buehne-und-bohne.de/event/toedlich-sexy-das-burlesque-musical-3/
LOCATION:Bühne & Bohne\, Juri-Gagarin-Ring 116\, Erfurt\, 99084\, Germany
CATEGORIES:Abendstücke,Tödlich Sexy - Burlesquemusical
ORGANIZER;CN="B%C3%BChne & Bohne":MAILTO:kontakt@buehne-und-bohne.de
END:VEVENT
END:VCALENDAR