BEGIN:VCALENDAR
VERSION:2.0
PRODID:-//Bühne &amp; Bohne Erfurt - ECPv6.15.20//NONSGML v1.0//EN
CALSCALE:GREGORIAN
METHOD:PUBLISH
X-WR-CALNAME:Bühne &amp; Bohne Erfurt
X-ORIGINAL-URL:https://www.buehne-und-bohne.de
X-WR-CALDESC:Veranstaltungen für Bühne &amp; Bohne Erfurt
REFRESH-INTERVAL;VALUE=DURATION:PT1H
X-Robots-Tag:noindex
X-PUBLISHED-TTL:PT1H
BEGIN:VTIMEZONE
TZID:Europe/Paris
BEGIN:DAYLIGHT
TZOFFSETFROM:+0100
TZOFFSETTO:+0200
TZNAME:CEST
DTSTART:20250330T010000
END:DAYLIGHT
BEGIN:STANDARD
TZOFFSETFROM:+0200
TZOFFSETTO:+0100
TZNAME:CET
DTSTART:20251026T010000
END:STANDARD
BEGIN:DAYLIGHT
TZOFFSETFROM:+0100
TZOFFSETTO:+0200
TZNAME:CEST
DTSTART:20260329T010000
END:DAYLIGHT
BEGIN:STANDARD
TZOFFSETFROM:+0200
TZOFFSETTO:+0100
TZNAME:CET
DTSTART:20261025T010000
END:STANDARD
BEGIN:DAYLIGHT
TZOFFSETFROM:+0100
TZOFFSETTO:+0200
TZNAME:CEST
DTSTART:20270328T010000
END:DAYLIGHT
BEGIN:STANDARD
TZOFFSETFROM:+0200
TZOFFSETTO:+0100
TZNAME:CET
DTSTART:20271031T010000
END:STANDARD
END:VTIMEZONE
BEGIN:VEVENT
DTSTART;TZID=Europe/Paris:20260308T103000
DTEND;TZID=Europe/Paris:20260308T113000
DTSTAMP:20260419T215410
CREATED:20260202T081812Z
LAST-MODIFIED:20260227T080018Z
UID:646-1772965800-1772969400@www.buehne-und-bohne.de
SUMMARY:Rotkäppchen und die Freundschaft
DESCRIPTION:„Komm ja nicht vom Weg ab\, mein Rotkäppchen“\, sagt die Mutter zu dem Mädchen. Doch als Rotkäppchen sich schließlich mit Wein und Kuchen aufmacht\, hat sie diese Warnung längst vergessen. Was soll schon passieren\, wenn sie noch ein paar Blumen pflückt\, um sie ihrer Oma zu schenken? Wenn sie dem netten Wolf von ihrer Großmutter erzählt? Vielleicht kann sie sich ja mit ihm anfreunden! \nDer Wolf muss lernen\, böse zu sein. Eigentlich ist ihm nur eins wichtig: Kuchen. Aber weil er ein Wolf ist\, muss er böse sein\, das sagt zumindest sein Bruder. So lässt er sich überreden\, zum Haus der Großmutter zu gehen… \nOb der Wolf seinen Kuchen bekommt und die beiden am Ende Freunde werden? Finde es heraus in Rotkäppchen und die Freundschaft! \n  \nEin mit viel Liebe inszeniertes Märchen über Gut und Böse und die Macht der Freundschaft. Empfehlung ab 3 Jahren. Spieldauer ca. 50min. \nText & Regie: Fiona Drechsler \nBesetzung: Amelie Preller & Stefanie Pohlent \n  \nHinweise: \n\nAbendkasse +1€/Ticket\nVor Ort ist gegebenenfalls nur Barzahlung möglich
URL:https://www.buehne-und-bohne.de/event/die-schoene-und-das-biest-2/
LOCATION:Bühne & Bohne\, Juri-Gagarin-Ring 116\, Erfurt\, 99084\, Germany
CATEGORIES:Kindertheater
ORGANIZER;CN="B%C3%BChne & Bohne":MAILTO:kontakt@buehne-und-bohne.de
END:VEVENT
END:VCALENDAR