BEGIN:VCALENDAR
VERSION:2.0
PRODID:-//Bühne &amp; Bohne Erfurt - ECPv6.15.20//NONSGML v1.0//EN
CALSCALE:GREGORIAN
METHOD:PUBLISH
X-WR-CALNAME:Bühne &amp; Bohne Erfurt
X-ORIGINAL-URL:https://www.buehne-und-bohne.de
X-WR-CALDESC:Veranstaltungen für Bühne &amp; Bohne Erfurt
REFRESH-INTERVAL;VALUE=DURATION:PT1H
X-Robots-Tag:noindex
X-PUBLISHED-TTL:PT1H
BEGIN:VTIMEZONE
TZID:Europe/Paris
BEGIN:DAYLIGHT
TZOFFSETFROM:+0100
TZOFFSETTO:+0200
TZNAME:CEST
DTSTART:20250330T010000
END:DAYLIGHT
BEGIN:STANDARD
TZOFFSETFROM:+0200
TZOFFSETTO:+0100
TZNAME:CET
DTSTART:20251026T010000
END:STANDARD
BEGIN:DAYLIGHT
TZOFFSETFROM:+0100
TZOFFSETTO:+0200
TZNAME:CEST
DTSTART:20260329T010000
END:DAYLIGHT
BEGIN:STANDARD
TZOFFSETFROM:+0200
TZOFFSETTO:+0100
TZNAME:CET
DTSTART:20261025T010000
END:STANDARD
BEGIN:DAYLIGHT
TZOFFSETFROM:+0100
TZOFFSETTO:+0200
TZNAME:CEST
DTSTART:20270328T010000
END:DAYLIGHT
BEGIN:STANDARD
TZOFFSETFROM:+0200
TZOFFSETTO:+0100
TZNAME:CET
DTSTART:20271031T010000
END:STANDARD
END:VTIMEZONE
BEGIN:VEVENT
DTSTART;TZID=Europe/Paris:20260307T160000
DTEND;TZID=Europe/Paris:20260307T170000
DTSTAMP:20260419T232900
CREATED:20260202T081508Z
LAST-MODIFIED:20260227T075718Z
UID:641-1772899200-1772902800@www.buehne-und-bohne.de
SUMMARY:PREMIERE Rotkäppchen und die Freundschaft
DESCRIPTION:„Komm ja nicht vom Weg ab\, mein Rotkäppchen“\, sagt die Mutter zu dem Mädchen. Doch als Rotkäppchen sich schließlich mit Wein und Kuchen aufmacht\, hat sie diese Warnung längst vergessen. Was soll schon passieren\, wenn sie noch ein paar Blumen pflückt\, um sie ihrer Oma zu schenken? Wenn sie dem netten Wolf von ihrer Großmutter erzählt? Vielleicht kann sie sich ja mit ihm anfreunden! \nDer Wolf muss lernen\, böse zu sein. Eigentlich ist ihm nur eins wichtig: Kuchen. Aber weil er ein Wolf ist\, muss er böse sein\, das sagt zumindest sein Bruder. So lässt er sich überreden\, zum Haus der Großmutter zu gehen… \nOb der Wolf seinen Kuchen bekommt und die beiden am Ende Freunde werden? Finde es heraus in Rotkäppchen und die Freundschaft! \n  \nEin mit viel Liebe inszeniertes Märchen über Gut und Böse und die Macht der Freundschaft. Empfehlung ab 3 Jahren. Spieldauer ca. 50min. \nText & Regie: Fiona Drechsler \nBesetzung: Amelie Preller & Stefanie Pohlent
URL:https://www.buehne-und-bohne.de/event/premiere-rotkaeppchen-und-die-freundschaft/
LOCATION:Bühne & Bohne\, Juri-Gagarin-Ring 116\, Erfurt\, 99084\, Germany
CATEGORIES:Kindertheater
ORGANIZER;CN="B%C3%BChne & Bohne":MAILTO:kontakt@buehne-und-bohne.de
END:VEVENT
BEGIN:VEVENT
DTSTART;TZID=Europe/Paris:20260307T190000
DTEND;TZID=Europe/Paris:20260307T213000
DTSTAMP:20260419T232900
CREATED:20260202T081633Z
LAST-MODIFIED:20260227T075939Z
UID:681-1772910000-1772919000@www.buehne-und-bohne.de
SUMMARY:PREMIERE Liebe\, Lügen und ein Lammfilet
DESCRIPTION:Geplant war ein romantisches Candle-Light-Dinner\, doch als ihr Date aus unerklärlichen Gründen nicht auftaucht und sich seltsame Zwischenfälle häufen\, stellt sich die Frage: Wer wird hier abserviert – das Gedeck oder Lina?\nLina ist heute seit sieben Jahren mit ihrem Freund Jonas zusammen. Zur Feier des Tages hat er sie ins Restaurant Die Noble Nudel eingeladen. Lina ist eine Romantikerin und erhofft sich zu diesem besonderen Anlass und den Jahren des Wartens endlich einen wunderschönen Ring! Doch als sie beim Restaurant eintrifft\, ist Jonas noch nicht da. Trotzdem ist sie sich sicher: Das ist ein ausgeklügelter Plan\, ihr einen Antrag zu machen. \nKellnerin Izzy ist gar nicht begeistert\, in dieses Drama hereingezogen zu werden. Am Liebsten würde sie Lina und ihren Aperol auch sitzen lassen\, aber sie braucht nun mal das Geld dieses Jobs\, um als Singer/Songwriterin groß durchzustarten! \nAls auch noch seltsame Gäste auftauchen\, und versuchen\, irgendwelche Informationen über Jonas aus der unwissenden Lina herauszuquetschen\, gerät der Abend völlig aus dem Ruder. \n  \nEine Komödie mit unerwarteten Wendungen\, Menschen und Freundschaften. \nText & Regie: Stefanie Pohlent \nBesetzung: Stefanie Pohlent\, Fiona Drechsler & Laura Busch \n  \n  \n*Ermäßigungsberechtigt sind Schüler\, Studenten und Auszubildende\, Senioren. Ein entsprechender Nachweis ist vorzulegen. \n**Abendkasse +3€/Ticket \n*** Vor Ort nur Barzahlung möglich
URL:https://www.buehne-und-bohne.de/event/premiere-liebe-luegen-und-ein-lammfilet/
LOCATION:Bühne & Bohne\, Juri-Gagarin-Ring 116\, Erfurt\, 99084\, Germany
CATEGORIES:Abendstücke
ORGANIZER;CN="B%C3%BChne & Bohne":MAILTO:kontakt@buehne-und-bohne.de
END:VEVENT
END:VCALENDAR